BEGIN:VCALENDAR
VERSION:2.0
PRODID:-//CERN//INDICO//EN
BEGIN:VEVENT
SUMMARY:Kick-off meeting Quantum many-body dynamics and graphs
DTSTART:20260515T053000Z
DTEND:20260515T110000Z
DTSTAMP:20260422T004200Z
UID:indico-event-197@indico.phys.nthu.edu.tw
DESCRIPTION:https://indico.phys.nthu.edu.tw/event/197/
LOCATION:General Building III/Room-512 - Meeting (NTHU)
URL:https://indico.phys.nthu.edu.tw/event/197/
END:VEVENT
END:VCALENDAR
